BEGIN:VCALENDAR
VERSION:2.0
PRODID:-// - ECPv5.3.2.1//NONSGML v1.0//EN
CALSCALE:GREGORIAN
METHOD:PUBLISH
X-ORIGINAL-URL:http://nsbarc.org.au
X-WR-CALDESC:Events for 
BEGIN:VTIMEZONE
TZID:Australia/Sydney
BEGIN:STANDARD
TZOFFSETFROM:+1100
TZOFFSETTO:+1000
TZNAME:AEST
DTSTART:20210403T160000
END:STANDARD
BEGIN:DAYLIGHT
TZOFFSETFROM:+1000
TZOFFSETTO:+1100
TZNAME:AEDT
DTSTART:20211002T160000
END:DAYLIGHT
END:VTIMEZONE
BEGIN:VEVENT
DTSTART;TZID=Australia/Sydney:20210102T090000
DTEND;TZID=Australia/Sydney:20210102T130000
DTSTAMP:20210301T142416
CREATED:20200908T105633Z
LAST-MODIFIED:20200908T105633Z
UID:1490-1609578000-1609592400@nsbarc.org.au
SUMMARY:Range Open
DESCRIPTION:
URL:http://nsbarc.org.au/?tribe_events=range-open-2020-12-19-2021-01-02&eventDate=2021-01-02
LOCATION:Newcastle Smallbore & Air Rifle Club\, 54 Eldon Street\, Waratah West\, NSW\, 2298\, Australia
CATEGORIES:Range Open
GEO:-32.54;151.42
X-APPLE-STRUCTURED-LOCATION;VALUE=URI;X-ADDRESS=Newcastle Smallbore & Air Rifle Club 54 Eldon Street Waratah West NSW 2298 Australia;X-APPLE-RADIUS=500;X-TITLE=54 Eldon Street:geo:151.42,-32.54
END:VEVENT
BEGIN:VEVENT
DTSTART;TZID=Australia/Sydney:20210106T090000
DTEND;TZID=Australia/Sydney:20210106T130000
DTSTAMP:20210301T142416
CREATED:20200908T110612Z
LAST-MODIFIED:20200908T110612Z
UID:1478-1609923600-1609938000@nsbarc.org.au
SUMMARY:Range Open
DESCRIPTION:
URL:http://nsbarc.org.au/?tribe_events=range-open-2-2020-12-23-2021-01-06&eventDate=2021-01-06
LOCATION:Newcastle Smallbore & Air Rifle Club\, 54 Eldon Street\, Waratah West\, NSW\, 2298\, Australia
CATEGORIES:Range Open
GEO:-32.54;151.42
X-APPLE-STRUCTURED-LOCATION;VALUE=URI;X-ADDRESS=Newcastle Smallbore & Air Rifle Club 54 Eldon Street Waratah West NSW 2298 Australia;X-APPLE-RADIUS=500;X-TITLE=54 Eldon Street:geo:151.42,-32.54
END:VEVENT
BEGIN:VEVENT
DTSTART;TZID=Australia/Sydney:20210110T090000
DTEND;TZID=Australia/Sydney:20210110T130000
DTSTAMP:20210301T142416
CREATED:20200908T110716Z
LAST-MODIFIED:20200908T110716Z
UID:1466-1610269200-1610283600@nsbarc.org.au
SUMMARY:Range Open
DESCRIPTION:
URL:http://nsbarc.org.au/?tribe_events=range-open-3-2020-12-27-2021-01-10&eventDate=2021-01-10
LOCATION:Newcastle Smallbore & Air Rifle Club\, 54 Eldon Street\, Waratah West\, NSW\, 2298\, Australia
CATEGORIES:Range Open
GEO:-32.54;151.42
X-APPLE-STRUCTURED-LOCATION;VALUE=URI;X-ADDRESS=Newcastle Smallbore & Air Rifle Club 54 Eldon Street Waratah West NSW 2298 Australia;X-APPLE-RADIUS=500;X-TITLE=54 Eldon Street:geo:151.42,-32.54
END:VEVENT
BEGIN:VEVENT
DTSTART;TZID=Australia/Sydney:20210116T090000
DTEND;TZID=Australia/Sydney:20210116T130000
DTSTAMP:20210301T142416
CREATED:20200908T105633Z
LAST-MODIFIED:20200908T105633Z
UID:1491-1610787600-1610802000@nsbarc.org.au
SUMMARY:Range Open
DESCRIPTION:
URL:http://nsbarc.org.au/?tribe_events=range-open-2020-12-19-2021-01-16&eventDate=2021-01-16
LOCATION:Newcastle Smallbore & Air Rifle Club\, 54 Eldon Street\, Waratah West\, NSW\, 2298\, Australia
CATEGORIES:Range Open
GEO:-32.54;151.42
X-APPLE-STRUCTURED-LOCATION;VALUE=URI;X-ADDRESS=Newcastle Smallbore & Air Rifle Club 54 Eldon Street Waratah West NSW 2298 Australia;X-APPLE-RADIUS=500;X-TITLE=54 Eldon Street:geo:151.42,-32.54
END:VEVENT
BEGIN:VEVENT
DTSTART;TZID=Australia/Sydney:20210120T090000
DTEND;TZID=Australia/Sydney:20210120T130000
DTSTAMP:20210301T142416
CREATED:20200908T110612Z
LAST-MODIFIED:20200908T110612Z
UID:1479-1611133200-1611147600@nsbarc.org.au
SUMMARY:Range Open
DESCRIPTION:
URL:http://nsbarc.org.au/?tribe_events=range-open-2-2020-12-23-2021-01-20&eventDate=2021-01-20
LOCATION:Newcastle Smallbore & Air Rifle Club\, 54 Eldon Street\, Waratah West\, NSW\, 2298\, Australia
CATEGORIES:Range Open
GEO:-32.54;151.42
X-APPLE-STRUCTURED-LOCATION;VALUE=URI;X-ADDRESS=Newcastle Smallbore & Air Rifle Club 54 Eldon Street Waratah West NSW 2298 Australia;X-APPLE-RADIUS=500;X-TITLE=54 Eldon Street:geo:151.42,-32.54
END:VEVENT
BEGIN:VEVENT
DTSTART;TZID=Australia/Sydney:20210124T090000
DTEND;TZID=Australia/Sydney:20210124T130000
DTSTAMP:20210301T142416
CREATED:20200908T110716Z
LAST-MODIFIED:20200908T110716Z
UID:1467-1611478800-1611493200@nsbarc.org.au
SUMMARY:Range Open
DESCRIPTION:
URL:http://nsbarc.org.au/?tribe_events=range-open-3-2020-12-27-2021-01-24&eventDate=2021-01-24
LOCATION:Newcastle Smallbore & Air Rifle Club\, 54 Eldon Street\, Waratah West\, NSW\, 2298\, Australia
CATEGORIES:Range Open
GEO:-32.54;151.42
X-APPLE-STRUCTURED-LOCATION;VALUE=URI;X-ADDRESS=Newcastle Smallbore & Air Rifle Club 54 Eldon Street Waratah West NSW 2298 Australia;X-APPLE-RADIUS=500;X-TITLE=54 Eldon Street:geo:151.42,-32.54
END:VEVENT
BEGIN:VEVENT
DTSTART;TZID=Australia/Sydney:20210130T090000
DTEND;TZID=Australia/Sydney:20210130T130000
DTSTAMP:20210301T142416
CREATED:20200908T105633Z
LAST-MODIFIED:20200908T105633Z
UID:1492-1611997200-1612011600@nsbarc.org.au
SUMMARY:Range Open
DESCRIPTION:
URL:http://nsbarc.org.au/?tribe_events=range-open-2020-12-19-2021-01-30&eventDate=2021-01-30
LOCATION:Newcastle Smallbore & Air Rifle Club\, 54 Eldon Street\, Waratah West\, NSW\, 2298\, Australia
CATEGORIES:Range Open
GEO:-32.54;151.42
X-APPLE-STRUCTURED-LOCATION;VALUE=URI;X-ADDRESS=Newcastle Smallbore & Air Rifle Club 54 Eldon Street Waratah West NSW 2298 Australia;X-APPLE-RADIUS=500;X-TITLE=54 Eldon Street:geo:151.42,-32.54
END:VEVENT
END:VCALENDAR