BEGIN:VCALENDAR
VERSION:2.0
PRODID:-// - ECPv5.3.2.1//NONSGML v1.0//EN
CALSCALE:GREGORIAN
METHOD:PUBLISH
X-ORIGINAL-URL:http://nsbarc.org.au
X-WR-CALDESC:Events for 
BEGIN:VTIMEZONE
TZID:Australia/Sydney
BEGIN:STANDARD
TZOFFSETFROM:+1100
TZOFFSETTO:+1000
TZNAME:AEST
DTSTART:20210403T160000
END:STANDARD
BEGIN:DAYLIGHT
TZOFFSETFROM:+1000
TZOFFSETTO:+1100
TZNAME:AEDT
DTSTART:20211002T160000
END:DAYLIGHT
END:VTIMEZONE
BEGIN:VEVENT
DTSTART;TZID=Australia/Sydney:20210303T090000
DTEND;TZID=Australia/Sydney:20210303T130000
DTSTAMP:20210301T142451
CREATED:20200908T110612Z
LAST-MODIFIED:20200908T110612Z
UID:1482-1614762000-1614776400@nsbarc.org.au
SUMMARY:Range Open
DESCRIPTION:
URL:http://nsbarc.org.au/?tribe_events=range-open-2-2020-12-23-2021-03-03&eventDate=2021-03-03
LOCATION:Newcastle Smallbore & Air Rifle Club\, 54 Eldon Street\, Waratah West\, NSW\, 2298\, Australia
CATEGORIES:Range Open
GEO:-32.54;151.42
X-APPLE-STRUCTURED-LOCATION;VALUE=URI;X-ADDRESS=Newcastle Smallbore & Air Rifle Club 54 Eldon Street Waratah West NSW 2298 Australia;X-APPLE-RADIUS=500;X-TITLE=54 Eldon Street:geo:151.42,-32.54
END:VEVENT
BEGIN:VEVENT
DTSTART;TZID=Australia/Sydney:20210307T090000
DTEND;TZID=Australia/Sydney:20210307T130000
DTSTAMP:20210301T142451
CREATED:20200908T110716Z
LAST-MODIFIED:20200908T110716Z
UID:1470-1615107600-1615122000@nsbarc.org.au
SUMMARY:Range Open
DESCRIPTION:
URL:http://nsbarc.org.au/?tribe_events=range-open-3-2020-12-27-2021-03-07&eventDate=2021-03-07
LOCATION:Newcastle Smallbore & Air Rifle Club\, 54 Eldon Street\, Waratah West\, NSW\, 2298\, Australia
CATEGORIES:Range Open
GEO:-32.54;151.42
X-APPLE-STRUCTURED-LOCATION;VALUE=URI;X-ADDRESS=Newcastle Smallbore & Air Rifle Club 54 Eldon Street Waratah West NSW 2298 Australia;X-APPLE-RADIUS=500;X-TITLE=54 Eldon Street:geo:151.42,-32.54
END:VEVENT
BEGIN:VEVENT
DTSTART;TZID=Australia/Sydney:20210313T090000
DTEND;TZID=Australia/Sydney:20210313T130000
DTSTAMP:20210301T142451
CREATED:20200908T105633Z
LAST-MODIFIED:20200908T105633Z
UID:1495-1615626000-1615640400@nsbarc.org.au
SUMMARY:Range Open
DESCRIPTION:
URL:http://nsbarc.org.au/?tribe_events=range-open-2020-12-19-2021-03-13&eventDate=2021-03-13
LOCATION:Newcastle Smallbore & Air Rifle Club\, 54 Eldon Street\, Waratah West\, NSW\, 2298\, Australia
CATEGORIES:Range Open
GEO:-32.54;151.42
X-APPLE-STRUCTURED-LOCATION;VALUE=URI;X-ADDRESS=Newcastle Smallbore & Air Rifle Club 54 Eldon Street Waratah West NSW 2298 Australia;X-APPLE-RADIUS=500;X-TITLE=54 Eldon Street:geo:151.42,-32.54
END:VEVENT
BEGIN:VEVENT
DTSTART;TZID=Australia/Sydney:20210317T090000
DTEND;TZID=Australia/Sydney:20210317T130000
DTSTAMP:20210301T142451
CREATED:20200908T110612Z
LAST-MODIFIED:20200908T110612Z
UID:1483-1615971600-1615986000@nsbarc.org.au
SUMMARY:Range Open
DESCRIPTION:
URL:http://nsbarc.org.au/?tribe_events=range-open-2-2020-12-23-2021-03-17&eventDate=2021-03-17
LOCATION:Newcastle Smallbore & Air Rifle Club\, 54 Eldon Street\, Waratah West\, NSW\, 2298\, Australia
CATEGORIES:Range Open
GEO:-32.54;151.42
X-APPLE-STRUCTURED-LOCATION;VALUE=URI;X-ADDRESS=Newcastle Smallbore & Air Rifle Club 54 Eldon Street Waratah West NSW 2298 Australia;X-APPLE-RADIUS=500;X-TITLE=54 Eldon Street:geo:151.42,-32.54
END:VEVENT
BEGIN:VEVENT
DTSTART;TZID=Australia/Sydney:20210321T090000
DTEND;TZID=Australia/Sydney:20210321T130000
DTSTAMP:20210301T142451
CREATED:20200908T110716Z
LAST-MODIFIED:20200908T110716Z
UID:1471-1616317200-1616331600@nsbarc.org.au
SUMMARY:Range Open
DESCRIPTION:
URL:http://nsbarc.org.au/?tribe_events=range-open-3-2020-12-27-2021-03-21&eventDate=2021-03-21
LOCATION:Newcastle Smallbore & Air Rifle Club\, 54 Eldon Street\, Waratah West\, NSW\, 2298\, Australia
CATEGORIES:Range Open
GEO:-32.54;151.42
X-APPLE-STRUCTURED-LOCATION;VALUE=URI;X-ADDRESS=Newcastle Smallbore & Air Rifle Club 54 Eldon Street Waratah West NSW 2298 Australia;X-APPLE-RADIUS=500;X-TITLE=54 Eldon Street:geo:151.42,-32.54
END:VEVENT
BEGIN:VEVENT
DTSTART;TZID=Australia/Sydney:20210327T090000
DTEND;TZID=Australia/Sydney:20210327T130000
DTSTAMP:20210301T142451
CREATED:20200908T105633Z
LAST-MODIFIED:20200908T105633Z
UID:1496-1616835600-1616850000@nsbarc.org.au
SUMMARY:Range Open
DESCRIPTION:
URL:http://nsbarc.org.au/?tribe_events=range-open-2020-12-19-2021-03-27&eventDate=2021-03-27
LOCATION:Newcastle Smallbore & Air Rifle Club\, 54 Eldon Street\, Waratah West\, NSW\, 2298\, Australia
CATEGORIES:Range Open
GEO:-32.54;151.42
X-APPLE-STRUCTURED-LOCATION;VALUE=URI;X-ADDRESS=Newcastle Smallbore & Air Rifle Club 54 Eldon Street Waratah West NSW 2298 Australia;X-APPLE-RADIUS=500;X-TITLE=54 Eldon Street:geo:151.42,-32.54
END:VEVENT
BEGIN:VEVENT
DTSTART;TZID=Australia/Sydney:20210331T090000
DTEND;TZID=Australia/Sydney:20210331T130000
DTSTAMP:20210301T142451
CREATED:20200908T110612Z
LAST-MODIFIED:20200908T110612Z
UID:1484-1617181200-1617195600@nsbarc.org.au
SUMMARY:Range Open
DESCRIPTION:
URL:http://nsbarc.org.au/?tribe_events=range-open-2-2020-12-23-2021-03-31&eventDate=2021-03-31
LOCATION:Newcastle Smallbore & Air Rifle Club\, 54 Eldon Street\, Waratah West\, NSW\, 2298\, Australia
CATEGORIES:Range Open
GEO:-32.54;151.42
X-APPLE-STRUCTURED-LOCATION;VALUE=URI;X-ADDRESS=Newcastle Smallbore & Air Rifle Club 54 Eldon Street Waratah West NSW 2298 Australia;X-APPLE-RADIUS=500;X-TITLE=54 Eldon Street:geo:151.42,-32.54
END:VEVENT
END:VCALENDAR